BEGIN:VCALENDAR
VERSION:2.0
PRODID:-//Drupal iCal API//EN
X-WR-TIMEZONE:America/Vancouver
BEGIN:VTIMEZONE
TZID:America/Vancouver
X-LIC-LOCATION:America/Vancouver
BEGIN:DAYLIGHT
TZNAME:PDT
TZOFFSETFROM:-0800
TZOFFSETTO:-0700
DTSTART:20260308T100000
END:DAYLIGHT
BEGIN:DAYLIGHT
TZNAME:PDT
TZOFFSETFROM:-0800
TZOFFSETTO:-0700
DTSTART:20250309T100000
END:DAYLIGHT
BEGIN:STANDARD
TZNAME:PST
TZOFFSETFROM:-0700
TZOFFSETTO:-0800
DTSTART:20251102T090000
END:STANDARD
BEGIN:STANDARD
TZNAME:PST
TZOFFSETFROM:-0700
TZOFFSETTO:-0800
DTSTART:20241103T090000
END:STANDARD
END:VTIMEZONE
BEGIN:VEVENT
UID:69ea53bd0d209
DTSTART;TZID=America/Vancouver:20260609T091000
SEQUENCE:0
TRANSP:TRANSPARENT
DTEND;TZID=America/Vancouver:20260609T133000
URL:https://bradner.abbyschools.ca/events/track-field-grade-45
SUMMARY:TRACK &amp; FIELD - GRADE 4/5
CLASS:PUBLIC
DTSTAMP:20260423T171541Z
END:VEVENT
BEGIN:VEVENT
UID:69ea53bd0fa39
DTSTART;TZID=America/Vancouver:20260615T091500
SEQUENCE:0
TRANSP:TRANSPARENT
DTEND;TZID=America/Vancouver:20260615T191500
URL:https://bradner.abbyschools.ca/events/grade-5-grad-field-trip
SUMMARY:GRADE 5 GRAD FIELD TRIP
CLASS:PUBLIC
DTSTAMP:20260423T171541Z
END:VEVENT
BEGIN:VEVENT
UID:69ea53bd1110a
DTSTART;TZID=America/Vancouver:20260605T091500
SEQUENCE:0
TRANSP:TRANSPARENT
DTEND;TZID=America/Vancouver:20260605T130000
URL:https://bradner.abbyschools.ca/events/field-trip-div-1-2-4
SUMMARY:FIELD TRIP - DIV. 1\, 2 &amp; 4
CLASS:PUBLIC
DTSTAMP:20260423T171541Z
END:VEVENT
BEGIN:VEVENT
UID:69ea53bd125c1
DTSTART;TZID=America/Vancouver:20260622T091500
SEQUENCE:0
TRANSP:TRANSPARENT
DTEND;TZID=America/Vancouver:20260622T120000
URL:https://bradner.abbyschools.ca/events/bradners-year-end-field-trip
SUMMARY:BRADNER'S YEAR-END FIELD TRIP
CLASS:PUBLIC
DTSTAMP:20260423T171541Z
END:VEVENT
BEGIN:VEVENT
UID:69ea53bd13912
DTSTART;TZID=America/Vancouver:20260605T140000
SEQUENCE:0
TRANSP:TRANSPARENT
DTEND;TZID=America/Vancouver:20260605T150000
URL:https://bradner.abbyschools.ca/events/bradner-parent-appreciation-tea
SUMMARY:BRADNER PARENT APPRECIATION TEA
CLASS:PUBLIC
DTSTAMP:20260423T171541Z
END:VEVENT
BEGIN:VEVENT
UID:69ea53bd14c77
DTSTART;TZID=America/Vancouver:20260605T133000
SEQUENCE:0
TRANSP:TRANSPARENT
DTEND;TZID=America/Vancouver:20260605T143000
URL:https://bradner.abbyschools.ca/events/bradner-bulldog-assembly-1
SUMMARY:BRADNER BULLDOG ASSEMBLY
CLASS:PUBLIC
DTSTAMP:20260423T171541Z
END:VEVENT
BEGIN:VEVENT
UID:69ea53bd1617a
DTSTART;VALUE=DATE:20260616
SEQUENCE:0
TRANSP:TRANSPARENT
DTEND;VALUE=DATE:20260617
URL:https://bradner.abbyschools.ca/events/hot-lunch-hot-dogs-2
SUMMARY:HOT LUNCH - HOT DOGS
CLASS:PUBLIC
X-MICROSOFT-CDO-ALLDAYEVENT:TRUE
DTSTAMP:20260423T171541Z
END:VEVENT
BEGIN:VEVENT
UID:69ea53bd1b054
DTSTART;VALUE=DATE:20260616
SEQUENCE:0
TRANSP:TRANSPARENT
DTEND;VALUE=DATE:20260617
URL:https://bradner.abbyschools.ca/events/sports-day-51
SUMMARY:SPORTS DAY
CLASS:PUBLIC
X-MICROSOFT-CDO-ALLDAYEVENT:TRUE
DTSTAMP:20260423T171541Z
END:VEVENT
BEGIN:VEVENT
UID:69ea53bd1cf18
DTSTART;VALUE=DATE:20260606
SEQUENCE:0
TRANSP:TRANSPARENT
DTEND;VALUE=DATE:20260607
URL:https://bradner.abbyschools.ca/events/popcorn-day-103
SUMMARY:POPCORN DAY
CLASS:PUBLIC
X-MICROSOFT-CDO-ALLDAYEVENT:TRUE
DTSTAMP:20260423T171541Z
END:VEVENT
BEGIN:VEVENT
UID:69ea53bd1eaf9
DTSTART;VALUE=DATE:20260529
SEQUENCE:0
TRANSP:TRANSPARENT
DTEND;VALUE=DATE:20260530
URL:https://bradner.abbyschools.ca/events/hot-lunch-popeyes
SUMMARY:HOT LUNCH - POPEYES
CLASS:PUBLIC
X-MICROSOFT-CDO-ALLDAYEVENT:TRUE
DTSTAMP:20260423T171541Z
END:VEVENT
BEGIN:VEVENT
UID:69ea53bd206a4
DTSTART;VALUE=DATE:20260514
SEQUENCE:0
TRANSP:TRANSPARENT
DTEND;VALUE=DATE:20260515
URL:https://bradner.abbyschools.ca/events/treat-day-ice-cream-sandwiches
SUMMARY:TREAT DAY - ICE CREAM SANDWICHES
CLASS:PUBLIC
X-MICROSOFT-CDO-ALLDAYEVENT:TRUE
DTSTAMP:20260423T171541Z
END:VEVENT
BEGIN:VEVENT
UID:69ea53bd2224b
DTSTART;VALUE=DATE:20260506
SEQUENCE:0
TRANSP:TRANSPARENT
DTEND;VALUE=DATE:20260507
URL:https://bradner.abbyschools.ca/events/popcorn-day-102
SUMMARY:POPCORN DAY
CLASS:PUBLIC
X-MICROSOFT-CDO-ALLDAYEVENT:TRUE
DTSTAMP:20260423T171541Z
END:VEVENT
BEGIN:VEVENT
UID:69ea53bd23fdb
DTSTART;VALUE=DATE:20260501
SEQUENCE:0
TRANSP:TRANSPARENT
DTEND;VALUE=DATE:20260502
URL:https://bradner.abbyschools.ca/events/hot-lunch-cobs
SUMMARY:HOT LUNCH - COBS
CLASS:PUBLIC
X-MICROSOFT-CDO-ALLDAYEVENT:TRUE
DTSTAMP:20260423T171541Z
END:VEVENT
BEGIN:VEVENT
UID:69ea53bd25b17
DTSTART;VALUE=DATE:20260413
SEQUENCE:0
TRANSP:TRANSPARENT
DTEND;VALUE=DATE:20260414
URL:https://bradner.abbyschools.ca/events/treat-day-11
SUMMARY:TREAT DAY
CLASS:PUBLIC
X-MICROSOFT-CDO-ALLDAYEVENT:TRUE
DTSTAMP:20260423T171541Z
END:VEVENT
BEGIN:VEVENT
UID:69ea53bd27862
DTSTART;VALUE=DATE:20260527
SEQUENCE:0
TRANSP:TRANSPARENT
DTEND;VALUE=DATE:20260528
URL:https://bradner.abbyschools.ca/events/grades-3-5-bradner-bike-program
SUMMARY:GRADES 3 - 5 BRADNER BIKE PROGRAM
CLASS:PUBLIC
X-MICROSOFT-CDO-ALLDAYEVENT:TRUE
DTSTAMP:20260423T171541Z
END:VEVENT
BEGIN:VEVENT
UID:69ea53bd29560
DTSTART;VALUE=DATE:20260528
SEQUENCE:0
TRANSP:TRANSPARENT
DTEND;VALUE=DATE:20260529
URL:https://bradner.abbyschools.ca/events/grades-3-5-bradner-bike-program
SUMMARY:GRADES 3 - 5 BRADNER BIKE PROGRAM
CLASS:PUBLIC
X-MICROSOFT-CDO-ALLDAYEVENT:TRUE
DTSTAMP:20260423T171541Z
END:VEVENT
BEGIN:VEVENT
UID:69ea53bd2af8c
DTSTART;VALUE=DATE:20260527
SEQUENCE:0
TRANSP:TRANSPARENT
DTEND;VALUE=DATE:20260528
URL:https://bradner.abbyschools.ca/events/grades-3-5-bradner-bike-program
SUMMARY:GRADES 3 - 5 BRADNER BIKE PROGRAM
CLASS:PUBLIC
X-MICROSOFT-CDO-ALLDAYEVENT:TRUE
DTSTAMP:20260423T171541Z
END:VEVENT
BEGIN:VEVENT
UID:69ea53bd2ca34
DTSTART;VALUE=DATE:20260528
SEQUENCE:0
TRANSP:TRANSPARENT
DTEND;VALUE=DATE:20260529
URL:https://bradner.abbyschools.ca/events/grades-3-5-bradner-bike-program
SUMMARY:GRADES 3 - 5 BRADNER BIKE PROGRAM
CLASS:PUBLIC
X-MICROSOFT-CDO-ALLDAYEVENT:TRUE
DTSTAMP:20260423T171541Z
END:VEVENT
BEGIN:VEVENT
UID:69ea53bd2e551
DTSTART;TZID=America/Vancouver:20260523T090000
SEQUENCE:0
TRANSP:TRANSPARENT
DTEND;TZID=America/Vancouver:20260523T213000
URL:https://bradner.abbyschools.ca/events/bradner-may-day-0
SUMMARY:BRADNER MAY DAY
CLASS:PUBLIC
DTSTAMP:20260423T171541Z
END:VEVENT
BEGIN:VEVENT
UID:69ea53bd30112
DTSTART;TZID=America/Vancouver:20260508T133000
SEQUENCE:0
TRANSP:TRANSPARENT
DTEND;TZID=America/Vancouver:20260508T143000
URL:https://bradner.abbyschools.ca/events/bradner-bulldog-assembly-0
SUMMARY:BRADNER BULLDOG ASSEMBLY
CLASS:PUBLIC
DTSTAMP:20260423T171541Z
END:VEVENT
BEGIN:VEVENT
UID:69ea53bd31deb
DTSTART;TZID=America/Vancouver:20260501T160000
SEQUENCE:0
TRANSP:TRANSPARENT
DTEND;TZID=America/Vancouver:20260501T203000
URL:https://bradner.abbyschools.ca/events/pac-spring-family-photo-fundraise
 r
SUMMARY:PAC SPRING FAMILY PHOTO FUNDRAISER
CLASS:PUBLIC
DTSTAMP:20260423T171541Z
END:VEVENT
BEGIN:VEVENT
UID:69ea53bd33ab3
DTSTART;TZID=America/Vancouver:20260430T093000
SEQUENCE:0
TRANSP:TRANSPARENT
DTEND;TZID=America/Vancouver:20260430T121500
URL:https://bradner.abbyschools.ca/events/bradner-division-4-5-field-trip
SUMMARY:BRADNER DIVISION 4 &amp; 5 FIELD TRIP
CLASS:PUBLIC
DTSTAMP:20260423T171541Z
END:VEVENT
BEGIN:VEVENT
UID:69ea53bd3598a
DTSTART;TZID=America/Vancouver:20260420T120000
SEQUENCE:0
TRANSP:TRANSPARENT
DTEND;TZID=America/Vancouver:20260420T143000
URL:https://bradner.abbyschools.ca/events/bradner-may-daypac-meeting
SUMMARY:BRADNER MAY DAY/PAC MEETING
CLASS:PUBLIC
DTSTAMP:20260423T171541Z
END:VEVENT
BEGIN:VEVENT
UID:69ea53bd37914
DTSTART;TZID=America/Vancouver:20260417T133000
SEQUENCE:0
TRANSP:TRANSPARENT
DTEND;TZID=America/Vancouver:20260417T143000
URL:https://bradner.abbyschools.ca/events/bradner-bulldog-assembly
SUMMARY:BRADNER BULLDOG ASSEMBLY
CLASS:PUBLIC
DTSTAMP:20260423T171541Z
END:VEVENT
BEGIN:VEVENT
UID:69ea53bd3920e
DTSTART;VALUE=DATE:20260313
SEQUENCE:0
TRANSP:TRANSPARENT
DTEND;VALUE=DATE:20260421
URL:https://bradner.abbyschools.ca/events/summer-explorers-gr-k-8-registrat
 ion-2026
SUMMARY:SUMMER EXPLORERS GR. K-8 REGISTRATION 2026
CLASS:PUBLIC
X-MICROSOFT-CDO-ALLDAYEVENT:TRUE
DTSTAMP:20260423T171541Z
END:VEVENT
BEGIN:VEVENT
UID:69ea53bd3aca7
DTSTART;TZID=America/Vancouver:20260402T173000
SEQUENCE:0
TRANSP:TRANSPARENT
DTEND;TZID=America/Vancouver:20260402T183000
URL:https://bradner.abbyschools.ca/events/public-budget-information-night
SUMMARY:PUBLIC BUDGET INFORMATION NIGHT
CLASS:PUBLIC
DTSTAMP:20260423T171541Z
END:VEVENT
BEGIN:VEVENT
UID:69ea53bd3c5fe
DTSTART;TZID=America/Vancouver:20260519T091500
SEQUENCE:0
TRANSP:TRANSPARENT
DTEND;TZID=America/Vancouver:20260519T110000
URL:https://bradner.abbyschools.ca/events/grade-45s-field-trip-erms
SUMMARY:GRADE 4/5'S FIELD TRIP TO ERMS
CLASS:PUBLIC
DTSTAMP:20260423T171541Z
END:VEVENT
BEGIN:VEVENT
UID:69ea53bd3de99
DTSTART;VALUE=DATE:20260505
SEQUENCE:0
TRANSP:TRANSPARENT
DTEND;VALUE=DATE:20260506
URL:https://bradner.abbyschools.ca/events/cinco-de-mayo-0
SUMMARY:CINCO DE MAYO
CLASS:PUBLIC
X-MICROSOFT-CDO-ALLDAYEVENT:TRUE
DTSTAMP:20260423T171541Z
END:VEVENT
BEGIN:VEVENT
UID:69ea53bd3f561
DTSTART;TZID=America/Vancouver:20260526T133000
SEQUENCE:0
TRANSP:TRANSPARENT
DTEND;TZID=America/Vancouver:20260526T143000
URL:https://bradner.abbyschools.ca/events/passion-projects
SUMMARY:PASSION PROJECTS
CLASS:PUBLIC
DTSTAMP:20260423T171541Z
END:VEVENT
BEGIN:VEVENT
UID:69ea53bd40936
DTSTART;TZID=America/Vancouver:20260421T133000
SEQUENCE:0
TRANSP:TRANSPARENT
DTEND;TZID=America/Vancouver:20260421T143000
URL:https://bradner.abbyschools.ca/events/passion-project-0
SUMMARY:PASSION PROJECT
CLASS:PUBLIC
DTSTAMP:20260423T171541Z
END:VEVENT
BEGIN:VEVENT
UID:69ea53bd41db7
DTSTART;TZID=America/Vancouver:20260312T150500
SEQUENCE:0
TRANSP:TRANSPARENT
DTEND;TZID=America/Vancouver:20260312T163000
URL:https://bradner.abbyschools.ca/events/bulldog-baking-club-1
SUMMARY:BULLDOG BAKING CLUB
CLASS:PUBLIC
DTSTAMP:20260423T171541Z
END:VEVENT
BEGIN:VEVENT
UID:69ea53bd43173
DTSTART;TZID=America/Vancouver:20260305T150500
SEQUENCE:0
TRANSP:TRANSPARENT
DTEND;TZID=America/Vancouver:20260305T163000
URL:https://bradner.abbyschools.ca/events/bulldog-baking-club-0
SUMMARY:BULLDOG BAKING CLUB
CLASS:PUBLIC
DTSTAMP:20260423T171541Z
END:VEVENT
BEGIN:VEVENT
UID:69ea53bd445e4
DTSTART;TZID=America/Vancouver:20260226T150500
SEQUENCE:0
TRANSP:TRANSPARENT
DTEND;TZID=America/Vancouver:20260226T163000
URL:https://bradner.abbyschools.ca/events/bulldog-baking-club
SUMMARY:BULLDOG BAKING CLUB
CLASS:PUBLIC
DTSTAMP:20260423T171541Z
END:VEVENT
BEGIN:VEVENT
UID:69ea53bd45987
DTSTART;TZID=America/Vancouver:20260330T091500
SEQUENCE:0
TRANSP:TRANSPARENT
DTEND;TZID=America/Vancouver:20260330T111500
URL:https://bradner.abbyschools.ca/events/pac-meeting-may-day-meeting
SUMMARY:PAC MEETING / MAY DAY MEETING
CLASS:PUBLIC
DTSTAMP:20260423T171541Z
END:VEVENT
BEGIN:VEVENT
UID:69ea53bd46e9f
DTSTART;TZID=America/Vancouver:20260410T100000
SEQUENCE:0
TRANSP:TRANSPARENT
DTEND;TZID=America/Vancouver:20260410T160000
URL:https://bradner.abbyschools.ca/events/bradner-flower-show-0
SUMMARY:BRADNER FLOWER SHOW
CLASS:PUBLIC
DTSTAMP:20260423T171541Z
END:VEVENT
BEGIN:VEVENT
UID:69ea53bd4827e
DTSTART;TZID=America/Vancouver:20260411T100000
SEQUENCE:0
TRANSP:TRANSPARENT
DTEND;TZID=America/Vancouver:20260411T160000
URL:https://bradner.abbyschools.ca/events/bradner-flower-show-0
SUMMARY:BRADNER FLOWER SHOW
CLASS:PUBLIC
DTSTAMP:20260423T171541Z
END:VEVENT
BEGIN:VEVENT
UID:69ea53bd4960f
DTSTART;TZID=America/Vancouver:20260412T100000
SEQUENCE:0
TRANSP:TRANSPARENT
DTEND;TZID=America/Vancouver:20260412T160000
URL:https://bradner.abbyschools.ca/events/bradner-flower-show-0
SUMMARY:BRADNER FLOWER SHOW
CLASS:PUBLIC
DTSTAMP:20260423T171541Z
END:VEVENT
BEGIN:VEVENT
UID:69ea53bd4a978
DTSTART;TZID=America/Vancouver:20260410T100000
SEQUENCE:0
TRANSP:TRANSPARENT
DTEND;TZID=America/Vancouver:20260410T160000
URL:https://bradner.abbyschools.ca/events/bradner-flower-show-0
SUMMARY:BRADNER FLOWER SHOW
CLASS:PUBLIC
DTSTAMP:20260423T171541Z
END:VEVENT
BEGIN:VEVENT
UID:69ea53bd4bf24
DTSTART;TZID=America/Vancouver:20260411T100000
SEQUENCE:0
TRANSP:TRANSPARENT
DTEND;TZID=America/Vancouver:20260411T160000
URL:https://bradner.abbyschools.ca/events/bradner-flower-show-0
SUMMARY:BRADNER FLOWER SHOW
CLASS:PUBLIC
DTSTAMP:20260423T171541Z
END:VEVENT
BEGIN:VEVENT
UID:69ea53bd4d515
DTSTART;TZID=America/Vancouver:20260412T100000
SEQUENCE:0
TRANSP:TRANSPARENT
DTEND;TZID=America/Vancouver:20260412T160000
URL:https://bradner.abbyschools.ca/events/bradner-flower-show-0
SUMMARY:BRADNER FLOWER SHOW
CLASS:PUBLIC
DTSTAMP:20260423T171541Z
END:VEVENT
BEGIN:VEVENT
UID:69ea53bd4e90c
DTSTART;TZID=America/Vancouver:20260410T100000
SEQUENCE:0
TRANSP:TRANSPARENT
DTEND;TZID=America/Vancouver:20260410T160000
URL:https://bradner.abbyschools.ca/events/bradner-flower-show-0
SUMMARY:BRADNER FLOWER SHOW
CLASS:PUBLIC
DTSTAMP:20260423T171541Z
END:VEVENT
BEGIN:VEVENT
UID:69ea53bd4fc25
DTSTART;TZID=America/Vancouver:20260411T100000
SEQUENCE:0
TRANSP:TRANSPARENT
DTEND;TZID=America/Vancouver:20260411T160000
URL:https://bradner.abbyschools.ca/events/bradner-flower-show-0
SUMMARY:BRADNER FLOWER SHOW
CLASS:PUBLIC
DTSTAMP:20260423T171541Z
END:VEVENT
BEGIN:VEVENT
UID:69ea53bd50f0f
DTSTART;TZID=America/Vancouver:20260412T100000
SEQUENCE:0
TRANSP:TRANSPARENT
DTEND;TZID=America/Vancouver:20260412T160000
URL:https://bradner.abbyschools.ca/events/bradner-flower-show-0
SUMMARY:BRADNER FLOWER SHOW
CLASS:PUBLIC
DTSTAMP:20260423T171541Z
END:VEVENT
BEGIN:VEVENT
UID:69ea53bd52396
DTSTART;TZID=America/Vancouver:20260423T153000
SEQUENCE:0
TRANSP:TRANSPARENT
DTEND;TZID=America/Vancouver:20260423T163000
URL:https://bradner.abbyschools.ca/events/ready-set-learn-32
SUMMARY:READY\, SET\, LEARN
CLASS:PUBLIC
DTSTAMP:20260423T171541Z
END:VEVENT
BEGIN:VEVENT
UID:69ea53bd539a8
DTSTART;VALUE=DATE:20260313
SEQUENCE:0
TRANSP:TRANSPARENT
DTEND;VALUE=DATE:20260314
URL:https://bradner.abbyschools.ca/events/bradner-hot-lunch-2
SUMMARY:BRADNER HOT LUNCH
CLASS:PUBLIC
X-MICROSOFT-CDO-ALLDAYEVENT:TRUE
DTSTAMP:20260423T171541Z
END:VEVENT
BEGIN:VEVENT
UID:69ea53bd55026
DTSTART;VALUE=DATE:20260304
SEQUENCE:0
TRANSP:TRANSPARENT
DTEND;VALUE=DATE:20260305
URL:https://bradner.abbyschools.ca/events/bradner-popcorn-day-2
SUMMARY:BRADNER POPCORN DAY
CLASS:PUBLIC
X-MICROSOFT-CDO-ALLDAYEVENT:TRUE
DTSTAMP:20260423T171541Z
END:VEVENT
BEGIN:VEVENT
UID:69ea53bd565a6
DTSTART;TZID=America/Vancouver:20260610T093000
SEQUENCE:0
TRANSP:TRANSPARENT
DTEND;TZID=America/Vancouver:20260610T133000
URL:https://bradner.abbyschools.ca/events/west-zone-rural-school-track-meet
 -gr-45-0
SUMMARY:WEST ZONE RURAL SCHOOL TRACK MEET (GR. 4/5)
CLASS:PUBLIC
DTSTAMP:20260423T171541Z
END:VEVENT
BEGIN:VEVENT
UID:69ea53bd57a76
DTSTART;VALUE=DATE:20260313
SEQUENCE:0
TRANSP:TRANSPARENT
DTEND;VALUE=DATE:20260314
URL:https://bradner.abbyschools.ca/events/st-pattys-day-wear-green
SUMMARY:ST. PATTY'S DAY - WEAR GREEN
CLASS:PUBLIC
X-MICROSOFT-CDO-ALLDAYEVENT:TRUE
DTSTAMP:20260423T171541Z
END:VEVENT
BEGIN:VEVENT
UID:69ea53bd590e9
DTSTART;TZID=America/Vancouver:20260309T150500
SEQUENCE:0
TRANSP:TRANSPARENT
DTEND;TZID=America/Vancouver:20260309T160000
URL:https://bradner.abbyschools.ca/events/bradner-craft-club-5
SUMMARY:BRADNER CRAFT CLUB
CLASS:PUBLIC
DTSTAMP:20260423T171541Z
END:VEVENT
BEGIN:VEVENT
UID:69ea53bd5a654
DTSTART;TZID=America/Vancouver:20260227T183000
SEQUENCE:0
TRANSP:TRANSPARENT
DTEND;TZID=America/Vancouver:20260227T203000
URL:https://bradner.abbyschools.ca/events/bradner-gym-night
SUMMARY:BRADNER GYM NIGHT - CANCELLED
CLASS:PUBLIC
DTSTAMP:20260423T171541Z
END:VEVENT
BEGIN:VEVENT
UID:69ea53bd5bab4
DTSTART;VALUE=DATE:20260225
SEQUENCE:0
TRANSP:TRANSPARENT
DTEND;VALUE=DATE:20260226
URL:https://bradner.abbyschools.ca/events/bradner-pink-shirt-day
SUMMARY:BRADNER PINK SHIRT DAY
CLASS:PUBLIC
X-MICROSOFT-CDO-ALLDAYEVENT:TRUE
DTSTAMP:20260423T171541Z
END:VEVENT
BEGIN:VEVENT
UID:69ea53bd5e4d8
DTSTART;TZID=America/Vancouver:20260223T150500
SEQUENCE:0
TRANSP:TRANSPARENT
DTEND;TZID=America/Vancouver:20260223T160000
URL:https://bradner.abbyschools.ca/events/bradner-craft-club-4
SUMMARY:BRADNER CRAFT CLUB
CLASS:PUBLIC
DTSTAMP:20260423T171541Z
END:VEVENT
BEGIN:VEVENT
UID:69ea53bd606c4
DTSTART;TZID=America/Vancouver:20260511T190000
SEQUENCE:0
TRANSP:TRANSPARENT
DTEND;TZID=America/Vancouver:20260511T210000
URL:https://bradner.abbyschools.ca/events/exploring-feel-better-dr-shahana-
 alibhai
SUMMARY:EXPLORING \"FEEL BETTER\" WITH DR. SHAHANA ALIBHAI
CLASS:PUBLIC
DTSTAMP:20260423T171541Z
END:VEVENT
BEGIN:VEVENT
UID:69ea53bd61ca5
DTSTART;TZID=America/Vancouver:20260408T183000
SEQUENCE:0
TRANSP:TRANSPARENT
DTEND;TZID=America/Vancouver:20260408T210000
URL:https://bradner.abbyschools.ca/events/study-smarter-not-harder-your-bra
 in-mind-terry-small
SUMMARY:\"STUDY SMARTER\, NOT HARDER… WITH YOUR BRAIN IN MIND” - TERRY 
 SMALL
CLASS:PUBLIC
DTSTAMP:20260423T171541Z
END:VEVENT
BEGIN:VEVENT
UID:69ea53bd630e4
DTSTART;TZID=America/Vancouver:20260223T190000
SEQUENCE:0
TRANSP:TRANSPARENT
DTEND;TZID=America/Vancouver:20260223T210000
URL:https://bradner.abbyschools.ca/events/bullying-new-approach-enduring-pr
 oblem-deborah-macnamara
SUMMARY:\"BULLYING - A NEW APPROACH TO AN ENDURING PROBLEM\" - DEBORAH MACN
 AMARA
CLASS:PUBLIC
DTSTAMP:20260423T171541Z
END:VEVENT
BEGIN:VEVENT
UID:69ea53bd650b1
DTSTART;TZID=America/Vancouver:20260225T153000
SEQUENCE:0
TRANSP:TRANSPARENT
DTEND;TZID=America/Vancouver:20260225T164500
URL:https://bradner.abbyschools.ca/events/grade-45-4-4-basketball-1
SUMMARY:GRADE 4/5 - 4 ON 4 BASKETBALL
CLASS:PUBLIC
DTSTAMP:20260423T171541Z
END:VEVENT
BEGIN:VEVENT
UID:69ea53bd66d7e
DTSTART;TZID=America/Vancouver:20260304T153000
SEQUENCE:0
TRANSP:TRANSPARENT
DTEND;TZID=America/Vancouver:20260304T164500
URL:https://bradner.abbyschools.ca/events/grade-45-4-4-basketball-0
SUMMARY:GRADE 4/5 - 4 ON 4 BASKETBALL
CLASS:PUBLIC
DTSTAMP:20260423T171541Z
END:VEVENT
BEGIN:VEVENT
UID:69ea53bd68bb5
DTSTART;VALUE=DATE:20260626
SEQUENCE:0
TRANSP:TRANSPARENT
DTEND;VALUE=DATE:20260627
URL:https://bradner.abbyschools.ca/events/last-day-teachers-1
SUMMARY:LAST DAY FOR TEACHERS
CLASS:PUBLIC
X-MICROSOFT-CDO-ALLDAYEVENT:TRUE
DTSTAMP:20260423T171541Z
END:VEVENT
BEGIN:VEVENT
UID:69ea53bd6a85f
DTSTART;VALUE=DATE:20260625
SEQUENCE:0
TRANSP:TRANSPARENT
DTEND;VALUE=DATE:20260626
URL:https://bradner.abbyschools.ca/events/last-day-students-1
SUMMARY:LAST DAY FOR STUDENTS
CLASS:PUBLIC
X-MICROSOFT-CDO-ALLDAYEVENT:TRUE
DTSTAMP:20260423T171541Z
END:VEVENT
BEGIN:VEVENT
UID:69ea53bd6c472
DTSTART;VALUE=DATE:20260316
SEQUENCE:0
TRANSP:TRANSPARENT
DTEND;VALUE=DATE:20260328
URL:https://bradner.abbyschools.ca/events/spring-break-4
SUMMARY:SPRING BREAK
CLASS:PUBLIC
X-MICROSOFT-CDO-ALLDAYEVENT:TRUE
DTSTAMP:20260423T171541Z
END:VEVENT
BEGIN:VEVENT
UID:69ea53bd6e02e
DTSTART;VALUE=DATE:20251217
SEQUENCE:0
TRANSP:TRANSPARENT
DTEND;VALUE=DATE:20251218
URL:https://bradner.abbyschools.ca/events/report-cards-elemmiddle-levels-3
SUMMARY:REPORT CARDS ELEM/MIDDLE LEVELS
CLASS:PUBLIC
X-MICROSOFT-CDO-ALLDAYEVENT:TRUE
DTSTAMP:20260423T171541Z
END:VEVENT
BEGIN:VEVENT
UID:69ea53bd6fb83
DTSTART;VALUE=DATE:20260313
SEQUENCE:0
TRANSP:TRANSPARENT
DTEND;VALUE=DATE:20260314
URL:https://bradner.abbyschools.ca/events/report-cards-elemmiddle-levels-3
SUMMARY:REPORT CARDS ELEM/MIDDLE LEVELS
CLASS:PUBLIC
X-MICROSOFT-CDO-ALLDAYEVENT:TRUE
DTSTAMP:20260423T171541Z
END:VEVENT
BEGIN:VEVENT
UID:69ea53bd715d2
DTSTART;VALUE=DATE:20260625
SEQUENCE:0
TRANSP:TRANSPARENT
DTEND;VALUE=DATE:20260626
URL:https://bradner.abbyschools.ca/events/report-cards-elemmiddle-levels-3
SUMMARY:REPORT CARDS ELEM/MIDDLE LEVELS
CLASS:PUBLIC
X-MICROSOFT-CDO-ALLDAYEVENT:TRUE
DTSTAMP:20260423T171541Z
END:VEVENT
BEGIN:VEVENT
UID:69ea53bd72f7b
DTSTART;VALUE=DATE:20251217
SEQUENCE:0
TRANSP:TRANSPARENT
DTEND;VALUE=DATE:20251218
URL:https://bradner.abbyschools.ca/events/report-cards-elemmiddle-levels-3
SUMMARY:REPORT CARDS ELEM/MIDDLE LEVELS
CLASS:PUBLIC
X-MICROSOFT-CDO-ALLDAYEVENT:TRUE
DTSTAMP:20260423T171541Z
END:VEVENT
BEGIN:VEVENT
UID:69ea53bd74ac0
DTSTART;VALUE=DATE:20260313
SEQUENCE:0
TRANSP:TRANSPARENT
DTEND;VALUE=DATE:20260314
URL:https://bradner.abbyschools.ca/events/report-cards-elemmiddle-levels-3
SUMMARY:REPORT CARDS ELEM/MIDDLE LEVELS
CLASS:PUBLIC
X-MICROSOFT-CDO-ALLDAYEVENT:TRUE
DTSTAMP:20260423T171541Z
END:VEVENT
BEGIN:VEVENT
UID:69ea53bd7ab17
DTSTART;VALUE=DATE:20260625
SEQUENCE:0
TRANSP:TRANSPARENT
DTEND;VALUE=DATE:20260626
URL:https://bradner.abbyschools.ca/events/report-cards-elemmiddle-levels-3
SUMMARY:REPORT CARDS ELEM/MIDDLE LEVELS
CLASS:PUBLIC
X-MICROSOFT-CDO-ALLDAYEVENT:TRUE
DTSTAMP:20260423T171541Z
END:VEVENT
BEGIN:VEVENT
UID:69ea53bd7cbb2
DTSTART;VALUE=DATE:20260515
SEQUENCE:0
TRANSP:TRANSPARENT
DTEND;VALUE=DATE:20260516
URL:https://bradner.abbyschools.ca/events/non-instructional-day-17
SUMMARY:NON-INSTRUCTIONAL DAY
CLASS:PUBLIC
X-MICROSOFT-CDO-ALLDAYEVENT:TRUE
DTSTAMP:20260423T171541Z
END:VEVENT
BEGIN:VEVENT
UID:69ea53bd7eae6
DTSTART;VALUE=DATE:20260424
SEQUENCE:0
TRANSP:TRANSPARENT
DTEND;VALUE=DATE:20260425
URL:https://bradner.abbyschools.ca/events/non-instructional-day-16
SUMMARY:NON-INSTRUCTIONAL DAY
CLASS:PUBLIC
X-MICROSOFT-CDO-ALLDAYEVENT:TRUE
DTSTAMP:20260423T171541Z
END:VEVENT
BEGIN:VEVENT
UID:69ea53bd8062f
DTSTART;TZID=America/Vancouver:20250925T190000
SEQUENCE:0
TRANSP:TRANSPARENT
DTEND;TZID=America/Vancouver:20250925T200000
URL:https://bradner.abbyschools.ca/events/dpac-meeting-7
SUMMARY:DPAC MEETING
CLASS:PUBLIC
DTSTAMP:20260423T171541Z
END:VEVENT
BEGIN:VEVENT
UID:69ea53bd821a3
DTSTART;TZID=America/Vancouver:20251023T190000
SEQUENCE:0
TRANSP:TRANSPARENT
DTEND;TZID=America/Vancouver:20251023T190000
URL:https://bradner.abbyschools.ca/events/dpac-meeting-7
SUMMARY:DPAC MEETING
CLASS:PUBLIC
DTSTAMP:20260423T171541Z
END:VEVENT
BEGIN:VEVENT
UID:69ea53bd83d79
DTSTART;TZID=America/Vancouver:20251127T190000
SEQUENCE:0
TRANSP:TRANSPARENT
DTEND;TZID=America/Vancouver:20251127T190000
URL:https://bradner.abbyschools.ca/events/dpac-meeting-7
SUMMARY:DPAC MEETING
CLASS:PUBLIC
DTSTAMP:20260423T171541Z
END:VEVENT
BEGIN:VEVENT
UID:69ea53bd85881
DTSTART;TZID=America/Vancouver:20260122T190000
SEQUENCE:0
TRANSP:TRANSPARENT
DTEND;TZID=America/Vancouver:20260122T200000
URL:https://bradner.abbyschools.ca/events/dpac-meeting-7
SUMMARY:DPAC MEETING
CLASS:PUBLIC
DTSTAMP:20260423T171541Z
END:VEVENT
BEGIN:VEVENT
UID:69ea53bd87595
DTSTART;TZID=America/Vancouver:20260226T190000
SEQUENCE:0
TRANSP:TRANSPARENT
DTEND;TZID=America/Vancouver:20260226T190000
URL:https://bradner.abbyschools.ca/events/dpac-meeting-7
SUMMARY:DPAC MEETING
CLASS:PUBLIC
DTSTAMP:20260423T171541Z
END:VEVENT
BEGIN:VEVENT
UID:69ea53bd892bd
DTSTART;TZID=America/Vancouver:20260423T190000
SEQUENCE:0
TRANSP:TRANSPARENT
DTEND;TZID=America/Vancouver:20260423T190000
URL:https://bradner.abbyschools.ca/events/dpac-meeting-7
SUMMARY:DPAC MEETING
CLASS:PUBLIC
DTSTAMP:20260423T171541Z
END:VEVENT
BEGIN:VEVENT
UID:69ea53bd8af24
DTSTART;TZID=America/Vancouver:20260528T190000
SEQUENCE:0
TRANSP:TRANSPARENT
DTEND;TZID=America/Vancouver:20260528T190000
URL:https://bradner.abbyschools.ca/events/dpac-meeting-7
SUMMARY:DPAC MEETING
CLASS:PUBLIC
DTSTAMP:20260423T171541Z
END:VEVENT
BEGIN:VEVENT
UID:69ea53bd8cb93
DTSTART;TZID=America/Vancouver:20250925T190000
SEQUENCE:0
TRANSP:TRANSPARENT
DTEND;TZID=America/Vancouver:20250925T200000
URL:https://bradner.abbyschools.ca/events/dpac-meeting-7
SUMMARY:DPAC MEETING
CLASS:PUBLIC
DTSTAMP:20260423T171541Z
END:VEVENT
BEGIN:VEVENT
UID:69ea53bd8e695
DTSTART;TZID=America/Vancouver:20251023T190000
SEQUENCE:0
TRANSP:TRANSPARENT
DTEND;TZID=America/Vancouver:20251023T190000
URL:https://bradner.abbyschools.ca/events/dpac-meeting-7
SUMMARY:DPAC MEETING
CLASS:PUBLIC
DTSTAMP:20260423T171541Z
END:VEVENT
BEGIN:VEVENT
UID:69ea53bd9039c
DTSTART;TZID=America/Vancouver:20251127T190000
SEQUENCE:0
TRANSP:TRANSPARENT
DTEND;TZID=America/Vancouver:20251127T190000
URL:https://bradner.abbyschools.ca/events/dpac-meeting-7
SUMMARY:DPAC MEETING
CLASS:PUBLIC
DTSTAMP:20260423T171541Z
END:VEVENT
BEGIN:VEVENT
UID:69ea53bd92229
DTSTART;TZID=America/Vancouver:20260122T190000
SEQUENCE:0
TRANSP:TRANSPARENT
DTEND;TZID=America/Vancouver:20260122T200000
URL:https://bradner.abbyschools.ca/events/dpac-meeting-7
SUMMARY:DPAC MEETING
CLASS:PUBLIC
DTSTAMP:20260423T171541Z
END:VEVENT
BEGIN:VEVENT
UID:69ea53bd9426b
DTSTART;TZID=America/Vancouver:20260226T190000
SEQUENCE:0
TRANSP:TRANSPARENT
DTEND;TZID=America/Vancouver:20260226T190000
URL:https://bradner.abbyschools.ca/events/dpac-meeting-7
SUMMARY:DPAC MEETING
CLASS:PUBLIC
DTSTAMP:20260423T171541Z
END:VEVENT
BEGIN:VEVENT
UID:69ea53bd96076
DTSTART;TZID=America/Vancouver:20260423T190000
SEQUENCE:0
TRANSP:TRANSPARENT
DTEND;TZID=America/Vancouver:20260423T190000
URL:https://bradner.abbyschools.ca/events/dpac-meeting-7
SUMMARY:DPAC MEETING
CLASS:PUBLIC
DTSTAMP:20260423T171541Z
END:VEVENT
BEGIN:VEVENT
UID:69ea53bd97d7d
DTSTART;TZID=America/Vancouver:20260528T190000
SEQUENCE:0
TRANSP:TRANSPARENT
DTEND;TZID=America/Vancouver:20260528T190000
URL:https://bradner.abbyschools.ca/events/dpac-meeting-7
SUMMARY:DPAC MEETING
CLASS:PUBLIC
DTSTAMP:20260423T171541Z
END:VEVENT
BEGIN:VEVENT
UID:69ea53bd99b65
DTSTART;TZID=America/Vancouver:20250925T190000
SEQUENCE:0
TRANSP:TRANSPARENT
DTEND;TZID=America/Vancouver:20250925T200000
URL:https://bradner.abbyschools.ca/events/dpac-meeting-7
SUMMARY:DPAC MEETING
CLASS:PUBLIC
DTSTAMP:20260423T171541Z
END:VEVENT
BEGIN:VEVENT
UID:69ea53bd9b8ba
DTSTART;TZID=America/Vancouver:20251023T190000
SEQUENCE:0
TRANSP:TRANSPARENT
DTEND;TZID=America/Vancouver:20251023T190000
URL:https://bradner.abbyschools.ca/events/dpac-meeting-7
SUMMARY:DPAC MEETING
CLASS:PUBLIC
DTSTAMP:20260423T171541Z
END:VEVENT
BEGIN:VEVENT
UID:69ea53bd9d4af
DTSTART;TZID=America/Vancouver:20251127T190000
SEQUENCE:0
TRANSP:TRANSPARENT
DTEND;TZID=America/Vancouver:20251127T190000
URL:https://bradner.abbyschools.ca/events/dpac-meeting-7
SUMMARY:DPAC MEETING
CLASS:PUBLIC
DTSTAMP:20260423T171541Z
END:VEVENT
BEGIN:VEVENT
UID:69ea53bd9edd6
DTSTART;TZID=America/Vancouver:20260122T190000
SEQUENCE:0
TRANSP:TRANSPARENT
DTEND;TZID=America/Vancouver:20260122T200000
URL:https://bradner.abbyschools.ca/events/dpac-meeting-7
SUMMARY:DPAC MEETING
CLASS:PUBLIC
DTSTAMP:20260423T171541Z
END:VEVENT
BEGIN:VEVENT
UID:69ea53bda06fa
DTSTART;TZID=America/Vancouver:20260226T190000
SEQUENCE:0
TRANSP:TRANSPARENT
DTEND;TZID=America/Vancouver:20260226T190000
URL:https://bradner.abbyschools.ca/events/dpac-meeting-7
SUMMARY:DPAC MEETING
CLASS:PUBLIC
DTSTAMP:20260423T171541Z
END:VEVENT
BEGIN:VEVENT
UID:69ea53bda214f
DTSTART;TZID=America/Vancouver:20260423T190000
SEQUENCE:0
TRANSP:TRANSPARENT
DTEND;TZID=America/Vancouver:20260423T190000
URL:https://bradner.abbyschools.ca/events/dpac-meeting-7
SUMMARY:DPAC MEETING
CLASS:PUBLIC
DTSTAMP:20260423T171541Z
END:VEVENT
BEGIN:VEVENT
UID:69ea53bda3d63
DTSTART;TZID=America/Vancouver:20260528T190000
SEQUENCE:0
TRANSP:TRANSPARENT
DTEND;TZID=America/Vancouver:20260528T190000
URL:https://bradner.abbyschools.ca/events/dpac-meeting-7
SUMMARY:DPAC MEETING
CLASS:PUBLIC
DTSTAMP:20260423T171541Z
END:VEVENT
BEGIN:VEVENT
UID:69ea53bda5b08
DTSTART;VALUE=DATE:20260518
SEQUENCE:0
TRANSP:TRANSPARENT
DTEND;VALUE=DATE:20260519
URL:https://bradner.abbyschools.ca/events/victoria-day-3
SUMMARY:VICTORIA DAY
CLASS:PUBLIC
X-MICROSOFT-CDO-ALLDAYEVENT:TRUE
DTSTAMP:20260423T171541Z
END:VEVENT
BEGIN:VEVENT
UID:69ea53bda7846
DTSTART;VALUE=DATE:20260403
SEQUENCE:0
TRANSP:TRANSPARENT
DTEND;VALUE=DATE:20260407
URL:https://bradner.abbyschools.ca/events/easter-weekend
SUMMARY:EASTER WEEKEND
CLASS:PUBLIC
X-MICROSOFT-CDO-ALLDAYEVENT:TRUE
DTSTAMP:20260423T171541Z
END:VEVENT
BEGIN:VEVENT
UID:69ea53bda9530
DTSTART;VALUE=DATE:20250701
SEQUENCE:0
TRANSP:TRANSPARENT
DTEND;VALUE=DATE:20250702
URL:https://bradner.abbyschools.ca/events/canada-day-11
SUMMARY:CANADA DAY
CLASS:PUBLIC
X-MICROSOFT-CDO-ALLDAYEVENT:TRUE
DTSTAMP:20260423T171541Z
END:VEVENT
BEGIN:VEVENT
UID:69ea53bdab19a
DTSTART;VALUE=DATE:20260701
SEQUENCE:0
TRANSP:TRANSPARENT
DTEND;VALUE=DATE:20260702
URL:https://bradner.abbyschools.ca/events/canada-day-11
SUMMARY:CANADA DAY
CLASS:PUBLIC
X-MICROSOFT-CDO-ALLDAYEVENT:TRUE
DTSTAMP:20260423T171541Z
END:VEVENT
END:VCALENDAR